BEGIN:VCALENDAR
VERSION:2.0
PRODID:-//wp-events-plugin.com//7.2.3.1//EN
BEGIN:VEVENT
UID:423@stgeorgephx.org
DTSTART;TZID=America/Phoenix:20260419T090000
DTEND;TZID=America/Phoenix:20260419T103000
DTSTAMP:20260414T135652Z
URL:https://stgeorgephx.org/events/sunday-worship-the-feast-of-st-george-3
 /
SUMMARY:Sunday Worship: The Feast of St. George
DESCRIPTION:We are celebrating the the Feast Day of St. George\, Martyr thi
 s Sunday. The actual feast day is April 23. As he is the man whom our chur
 ch is named after we always remember this day\, giving thanks to God for o
 ne who walked in the footsteps of Jesus unto death.\n\nIn our Psalter Serm
 on Series\, Pastor Shane will be preaching Psalm 37.\n\nTo prepare for wor
 ship\, please read the Collect and Lessons:\nThe Collect for the Feast of 
 St. George\nGod of hosts\, who so kindled the flame of love in the heart o
 f your servant George that he bore witness to the risen Lord by his life a
 nd by his death: give us the same faith and power of love that we who rejo
 ice in his triumphs may come to share with him the fullness of the resurre
 ction\; through Jesus Christ your Son our Lord\, who is alive and reigns w
 ith you\, in the unity of the Holy Spirit\, one God\, now and for ever. Am
 en.\n\nPsalm 37\nOT: Revelation 12:7-12\nEpistle: 2 Timothy 2:3-13\nGospel
 : John 15:18-21\n\nHeidelberg Catechism LD6 Q19\nQ. How do you come to kno
 w this?\nA. The holy gospel tells me. God began to reveal the gospel alrea
 dy in Paradise\; later God proclaimed it by the holy patriarchs2 and proph
 ets and foreshadowed it by the sacrifices and other ceremonies of the law\
 ; and finally God fulfilled it\nthrough his own beloved Son.\n\n&nbsp\;
CATEGORIES:Church
LOCATION:St. George's Anglican Church\, 1500 W Maryland Ave\, Phoenix\, AZ\
 , 85015\, United States
X-APPLE-STRUCTURED-LOCATION;VALUE=URI;X-ADDRESS=1500 W Maryland Ave\, Phoen
 ix\, AZ\, 85015\, United States;X-APPLE-RADIUS=100;X-TITLE=St. George's An
 glican Church:geo:0,0
END:VEVENT
BEGIN:VTIMEZONE
TZID:America/Phoenix
X-LIC-LOCATION:America/Phoenix
BEGIN:STANDARD
DTSTART:20250419T090000
TZOFFSETFROM:-0700
TZOFFSETTO:-0700
TZNAME:MST
END:STANDARD
END:VTIMEZONE
END:VCALENDAR